BEGIN:VCALENDAR
VERSION:2.0
PRODID:-//wp-events-plugin.com//7.2.3.1//EN
BEGIN:VEVENT
UID:13@matthieu-daviere.fr
DTSTART;TZID=Europe/Paris:20260428T100000
DTEND;TZID=Europe/Paris:20260630T120000
DTSTAMP:20260403T090642Z
URL:https://matthieu-daviere.fr/events/art-therapie-pole-sante-marais/
SUMMARY:Art-thérapie avec le Pôle Santé du Marais
DESCRIPTION:✨ Un nouveau cycle d’art-thérapie pour prendre soin de soi
  ✨\n\nS'offrir un espace pour souffler\, créer… et se retrouver ?\n\n
 Le Pôle de Santé du Marais à Sallertaine propose un programme d’art-t
 hérapie\, pensé comme un temps pour soi\, pour explorer ses ressentis à
  travers la création\, en douceur et sans prérequis.\n\n🎨 Concrèteme
 nt :\n• Un cycle de 6 séances (d’avril à juin)\n• En petit groupe\
 , pour favoriser la confiance et les échanges\n• Des propositions vari
 ées pour stimuler la créativité\, la vitalité et la confiance en soi\n
 • Des ateliers encadrés par un art-thérapeute\n\n🌿 Pour qui ?\nCe p
 rogramme s’adresse aux adultes souhaitant :\n• prendre un temps pour e
 ux\n• traverser une période de fragilité ou de transition\n• retrouv
 er de l’élan\, de la confiance ou du plaisir à créer\n• ou simpleme
 nt vivre une expérience créative en groupe\, dans un cadre bienveillant\
 n\n📩 Comment s’inscrire ?\nAprès échange avec votre médecin\, vous
  pouvez vous inscrire en envoyant un mail à : poledesantedumarais@gmail.c
 om\n\nPlus d'infos : https://www.polesantemarais.fr/un-moment-pour-vous-av
 ec-les-ateliers-artistiques/\n\nUn espace pour déposer\, explorer\, resse
 ntir…\nPeut-être est-ce le bon moment pour vous 🌿\n\nInfos pratiques
  : \n\nL'atelier a lieu les mardis\, de 10h à 12h\n\nDates : 28 avril\,
   05 mai\, 19 mai\, 2 juin\, 16 juin\, 30 juin\n\nSalle des 4 Vents\, Rue
  du Sablais\, 85470 Brem-sur-Mer\n\nParticipation : 12€ pour le cycle\n\
 nDes questions ?\n\nContactez-moi au 07 66 99 13 45 ou par mail : matthieu
 daviere.artherapie@gmail.com
ATTACH;FMTTYPE=image/jpeg:https://matthieu-daviere.fr/wp-content/uploads/2
 026/04/Art-therapie_Pole-Sante_Marais_1-scaled.jpg
CATEGORIES:Art-thérapie,Bien-être,Médiations artistiques
LOCATION:Pôle Santé du Marais\, Sallertaine\, 8 rue de la Garde\, Sallert
 aine\,  85300\, France
X-APPLE-STRUCTURED-LOCATION;VALUE=URI;X-ADDRESS=8 rue de la Garde\, Sallert
 aine\,  85300\, France;X-APPLE-RADIUS=100;X-TITLE=Pôle Santé du Marais\,
  Sallertaine:geo:0,0
END:VEVENT
BEGIN:VTIMEZONE
TZID:Europe/Paris
X-LIC-LOCATION:Europe/Paris
BEGIN:DAYLIGHT
DTSTART:20260329T030000
TZOFFSETFROM:+0100
TZOFFSETTO:+0200
TZNAME:CEST
END:DAYLIGHT
END:VTIMEZONE
END:VCALENDAR