BEGIN:VCALENDAR
VERSION:2.0
PRODID:-//wp-events-plugin.com//7.2.3.1//EN
BEGIN:VEVENT
UID:14@matthieu-daviere.fr
DTSTART;TZID=Europe/Paris;VALUE=DATE:20260612
DTEND;TZID=Europe/Paris;VALUE=DATE:20260615
DTSTAMP:20260404T203105Z
URL:https://matthieu-daviere.fr/events/la-vague-yoga/
SUMMARY:Art-thérapie - La Vague Yoga & Surf Festival
DESCRIPTION:✨ Une parenthèse créative au cœur du Festival La Vague Yog
 a &amp\; Surf ✨\nEt si vous vous laissiez porter… du souffle au geste 
 ?\nÀ l’occasion du Festival La Vague Yoga &amp\; Surf\, je vous propose
  deux ateliers d’art-thérapie corporelle et créative\, comme des espac
 es pour ralentir\, ressentir et laisser émerger une expression libre\, gu
 idée par le corps et la respiration.\n🎨 Concrètement :• Deux sessio
 ns d’art-thérapie accessibles à tous• Une approche centrée sur le s
 ouffle\, le mouvement et les sensations• De grands formats pour libérer
  le geste et explorer une créativité incarnée• Aucun prérequis artis
 tique\n🌿 Pour qui ?Ces ateliers s’adressent à toute personne souhait
 ant :• prendre un temps pour soi au cœur du festival• se relier à so
 n corps et à ses ressentis• explorer une autre manière de créer\, plu
 s libre et intuitive• vivre une expérience sensible\, en douceur\n✨ A
 u programme : “Du souffle au geste”Un voyage créatif où le corps gui
 de le tracé\, où la respiration devient rythme\, et où chaque geste peu
 t devenir un espace d’exploration intérieure.\n📅 Dates &amp\; horair
 es :• Vendredi 12 juin : 15h30 – 16h45• Dimanche 14 juin : 14h00 –
  15h00\n📍 Dans le cadre du Festival La Vague Yoga &amp\; Surf\n📩 Ins
 criptions :Directement via l’organisation du festival👉 https://www.la
 vagueyoga.com
ATTACH;FMTTYPE=image/jpeg:https://matthieu-daviere.fr/wp-content/uploads/2
 026/04/IMG-20260404-WA0000.jpg
CATEGORIES:Art-thérapie,Bien-être,Médiations artistiques,Surf,Yoga
LOCATION:Salle Marie de Beaucaire\, Saint-Gilles-Croix-de-Vie\, Salle Marie
  de Beaucaire\, 15 Promenade de la Vie\, Saint-Gilles-Croix-de-Vie\, 85800
 \, France
X-APPLE-STRUCTURED-LOCATION;VALUE=URI;X-ADDRESS=Salle Marie de Beaucaire\, 
 15 Promenade de la Vie\, Saint-Gilles-Croix-de-Vie\, 85800\, France;X-APPL
 E-RADIUS=100;X-TITLE=Salle Marie de Beaucaire\, Saint-Gilles-Croix-de-Vie:
 geo:0,0
END:VEVENT
BEGIN:VTIMEZONE
TZID:Europe/Paris
X-LIC-LOCATION:Europe/Paris
BEGIN:DAYLIGHT
DTSTART:20260329T030000
TZOFFSETFROM:+0100
TZOFFSETTO:+0200
TZNAME:CEST
END:DAYLIGHT
END:VTIMEZONE
END:VCALENDAR